{
 "currentVersion": 10.71,
 "serviceDescription": "",
 "mapName": "Couches",
 "description": "",
 "copyrightText": "",
 "supportsDynamicLayers": true,
 "layers": [
  {
   "id": 0,
   "name": "ortho2018",
   "parentLayerId": -1,
   "defaultVisibility": true,
   "subLayerIds": null,
   "minScale": 0,
   "maxScale": 0,
   "type": "Raster Layer"
  }
 ],
 "tables": [],
 "spatialReference": {
  "wkid": 102110,
  "latestWkid": 2154
 },
 "singleFusedMapCache": true,
 "tileInfo": {
  "rows": 256,
  "cols": 256,
  "dpi": 96,
  "format": "JPEG",
  "compressionQuality": 95,
  "origin": {
   "x": 849297,
   "y": 6529938
  },
  "spatialReference": {
   "wkid": 102110,
   "latestWkid": 2154
  },
  "lods": [
   {
    "level": 0,
    "resolution": 66.1459656252646,
    "scale": 250000
   },
   {
    "level": 1,
    "resolution": 33.0729828126323,
    "scale": 125000
   },
   {
    "level": 2,
    "resolution": 16.53649140631615,
    "scale": 62500
   },
   {
    "level": 3,
    "resolution": 8.268245703158074,
    "scale": 31250
   },
   {
    "level": 4,
    "resolution": 4.134122851579037,
    "scale": 15625
   },
   {
    "level": 5,
    "resolution": 2.0670614257895186,
    "scale": 7812.5
   },
   {
    "level": 6,
    "resolution": 1.0335307128947593,
    "scale": 3906.25
   },
   {
    "level": 7,
    "resolution": 0.5167653564473796,
    "scale": 1953.125
   },
   {
    "level": 8,
    "resolution": 0.2583826782236898,
    "scale": 976.5625
   },
   {
    "level": 9,
    "resolution": 0.1291913391118449,
    "scale": 488.28125
   }
  ]
 },
 "initialExtent": {
  "xmin": 848880.3017452301,
  "ymin": 6498026.114208803,
  "xmax": 870870.5767592231,
  "ymax": 6531005.369949896,
  "spatialReference": {
   "wkid": 102110,
   "latestWkid": 2154
  }
 },
 "fullExtent": {
  "xmin": 849879.8597004116,
  "ymin": 6499525.171287944,
  "xmax": 869871.0188040417,
  "ymax": 6529506.312870755,
  "spatialReference": {
   "wkid": 102110,
   "latestWkid": 2154
  }
 },
 "minScale": 250000,
 "maxScale": 488.28125,
 "minLOD": 0,
 "maxLOD": 9,
 "units": "esriMeters",
 "supportedImageFormatTypes": "PNG32,PNG24,PNG,JPG,DIB,TIFF,EMF,PS,PDF,GIF,SVG,SVGZ,BMP",
 "documentInfo": {
  "Title": "",
  "Author": "",
  "Comments": "",
  "Subject": "",
  "Category": "",
  "AntialiasingMode": "None",
  "TextAntialiasingMode": "Force",
  "Keywords": ""
 },
 "capabilities": "Map,Query,Data",
 "supportedQueryFormats": "JSON, geoJSON",
 "exportTilesAllowed": false,
 "supportsDatumTransformation": true,
 "maxRecordCount": 1000,
 "maxImageHeight": 4096,
 "maxImageWidth": 4096,
 "supportedExtensions": "WMSServer"
}
